Workbook

Sheet Data Covid Omicron
A1: Tanggal | B1: Kasus baru | C1: Aktif | D1: Sembuh Total | E1: Meninggal | F1: Vaksin 2
A2: 44526 | B2: 453 | C2: 8093 | D2: 4103379 | E2: 143796 | F2: 830467
A3: 44527 | B3: 404 | C3: 8226 | D3: 4103639 | E3: 143807 | F3: 561810
A4: 44528 | B4: 264 | C4: 8214 | D4: 4103914 | E4: 143808 | F4: 672898
A5: 44529 | B5: 176 | C5: 7960 | D5: 4104333 | E5: 143819 | F5: 415923
A6: 44530 | B6: 294 | C6: 7922 | D6: 4104657 | E6: 143830 | F6: 718208
A7: 01-Des-21 | B7: 278 | C7: 7883 | D7: 4104964 | E7: 143840 | F7: 1045478
A8: 02-Des-21 | B8: 311 | C8: 7796 | D8: 4105352 | E8: 143850 | F8: 799303
A9: 03-Des-21 | B9: 245 | C9: 7705 | D9: 4105680 | E9: 143858 | F9: 728185
A10: 04-Des-21 | B10: 246 | C10: 7632 | D10: 4105994 | E10: 143863 | F10: 576784
A11: 05-Des-21 | B11: 196 | C11: 7526 | D11: 4106292 | E11: 143867 | F11: 385963
A12: 06-Des-21 | B12: 130 | C12: 5642 | D12: 4108297 | E12: 143876 | F12: 215991
A13: 07-Des-21 | B13: 216 | C13: 5466 | D13: 4108717 | E13: 143893 | F13: 599872
A14: 08-Des-21 | B14: 264 | C14: 5363 | D14: 4109068 | E14: 143909 | F14: 633828
A15: 09-Des-21 | B15: 220 | C15: 5278 | D15: 4109364 | E15: 143918 | F15: 690237
A16: 10-Des-21 | B16: 192 | C16: 5154 | D16: 4109675 | E16: 143923 | F16: 645087
A17: 11-Des-21 | B17: 228 | C17: 5186 | D17: 4109865 | E17: 143929 | F17: 650661
A18: 12-Des-21 | B18: 163 | C18: 5158 | D18: 4110049 | E18: 143936 | F18: 464925
... A32: 26-Des-21 | B32: 92 | C32: 4655 | D32: 4113049 | E32: 144055 | F32: 213520
A33: 27-Des-21 | B33: 120 | C33: 4496 | D33: 4113320 | E33: 144063 | F33: 192049 | H33: https://nasional.kompas.com/read/2021/12/27/18344291/update-27-desember-bertambah-120-kini-ada-4261879-kasus-covid-19-di
A34: 28-Des-21 | B34: 278 | C34: 4614 | D34: 4113472 | E34: 144071 | F34: 752446
A35: 29-Des-21 | B35: 194 | C35: 4528 | D35: 4113742 | E35: 144081 | F35: 712486
A36: 30-Des-21 | B36: 189 | C36: 4311 | D36: 4114141 | E36: 144088 | F36: 726580
A37: 31-Des-21 | B37: 180 | C37: 4292 | D37: 4114334 | E37: 144094 | F37: 661959
A38: 44562 | B38: 274 | C38: 4399 | D38: 4114499 | E38: 144096 | F38: 364111
A39: 44563 | B39: 174 | C39: 4382 | D39: 4114689 | E39: 144097 | F39: 72924
A40: 44564 | B40: 265 | C40: 4530 | D40: 4114801 | E40: 144102 | F40: 92977
A41: 44565 | B41: 299 | C41: 4658 | D41: 4114969 | E41: 144105 | F41: 369597
A42: 44566 | B42: 404 | C42: 4878 | D42: 4115149 | E42: 144109 | F42: 256668
A43: 44567 | B43: 533 | C43: 5195 | D43: 4115358 | E43: 144116 | F43: 731980
A44: 44568 | B44: 518 | C44: 5494 | D44: 4115572 | E44: 144121 | F44: 560300
A45: 44569 | B45: 479 | C45: 5792 | D45: 4115747 | E45: 144127 | F45: 455024
A46: 44570 | B46: 529 | C46: 6108 | D46: 4115958 | E46: 144129 | F46: 250044
A47: 44571 | B47: 454 | C47: 6311 | D47: 4116202 | E47: 144136 | F47: 179332
A48: 44572 | B48: 802 | C48: 6659 | D48: 4116648 | E48: 144144 | F48: 334376
A49: 44573 | B49: 646 | C49: 6985 | D49: 4116962 | E49: 144150 | F49: 613814
... A142: 44666 | B142: 922 | C142: 62665 | D142: 5820179 | E142: 155820 | F142: 167137

Sheet Data SVIR dan Estimasi paramete
A18: Model SVIR | G18: Data untuk estimasi parameter | O18: Estimasi Parameter
A19: Hari Ke- | B19: Susceptible (S) | C19: Vaccinated (V) | D19: Infected (I) | E19: Recovered (R) | G19: N | H19: CBR | I19: Vb(t) | J19: KC(t) | K19: M(t) | L19: S(t) | O19: laju kelahiran | P19: laju vaksinasi | Q19: laju kontak | R19: laju kesembuhan | S19: laju imunitas | T19: laju kematian karena penyakit | U19: laju efektivitas vaksin | V19: laju kegagalan vaksin
A20: 0 | B20: =G$20-(C20+D20+E20) -> 278529567 | C20: ='Data Covid Omicron'!F3 -> 561810 | D20: ='Data Covid Omicron'!C3 -> 8226 | E20: ='Data Covid Omicron'!D3-'Data Covid Omicron'!D2 -> 260 | G20: 279099863 | H20: 17.095 | I20: ='Data Covid Omicron'!F3 -> 561810 | J20: ='Data Covid Omicron'!B3 -> 404 | K20: ='Data Covid Omicron'!E3-'Data Covid Omicron'!E2 -> 11 | L20: ='Data Covid Omicron'!D3-'Data Covid Omicron'!D2 -> 260 | O20: =H20/1000*(1/365) -> 4.6835616e-05 | P20: =I20/B20 -> 0.002017057 | Q20: =(J20*G$20)/(B20*D20) -> 0.049213129 | R20: =L20/D20 -> 0.031607099 | S20: =3% -> 0.03 | T20: =K20/D20 -> 0.0013372234 | U20: =90% -> 0.9 | V20: =10%*Q20 -> 0.0049213129
A21: 1 | B21: =G$20-(C21+D21+E21) -> 278418476 | C21: ='Data Covid Omicron'!F4 -> 672898 | D21: ='Data Covid Omicron'!C4 -> 8214 | E21: ='Data Covid Omicron'!D4-'Data Covid Omicron'!D3 -> 275 | I21: ='Data Covid Omicron'!F4 -> 672898 | J21: ='Data Covid Omicron'!B4 -> 264 | K21: ='Data Covid Omicron'!E4-'Data Covid Omicron'!E3 -> 1 | L21: ='Data Covid Omicron'!D4-'Data Covid Omicron'!D3 -> 275 | P21: =I21/B21 -> 0.0024168583 | Q21: =(J21*G$20)/(B21*D21) -> 0.032218907 | R21: =L21/D21 -> 0.033479425 | T21: =K21/D21 -> 0.00012174336 | V21: =10%*Q21 -> 0.0032218907
A22: 2 | B22: =G$20-(C22+D22+E22) -> 278675561 | C22: ='Data Covid Omicron'!F5 -> 415923 | D22: ='Data Covid Omicron'!C5 -> 7960 | E22: ='Data Covid Omicron'!D5-'Data Covid Omicron'!D4 -> 419 | I22: ='Data Covid Omicron'!F5 -> 415923 | J22: ='Data Covid Omicron'!B5 -> 176 | K22: ='Data Covid Omicron'!E5-'Data Covid Omicron'!E4 -> 11 | L22: ='Data Covid Omicron'!D5-'Data Covid Omicron'!D4 -> 419 | P22: =I22/B22 -> 0.001492499 | Q22: =(J22*G$20)/(B22*D22) -> 0.022144218 | R22: =L22/D22 -> 0.052638191 | T22: =K22/D22 -> 0.0013819095 | V22: =10%*Q22 -> 0.0022144218
A23: 3 | B23: =G$20-(C23+D23+E23) -> 278373409 | C23: ='Data Covid Omicron'!F6 -> 718208 | D23: ='Data Covid Omicron'!C6 -> 7922 | E23: ='Data Covid Omicron'!D6-'Data Covid Omicron'!D5 -> 324 | I23: ='Data Covid Omicron'!F6 -> 718208 | J23: ='Data Covid Omicron'!B6 -> 294 | K23: ='Data Covid Omicron'!E6-'Data Covid Omicron'!E5 -> 11 | L23: ='Data Covid Omicron'!D6-'Data Covid Omicron'!D5 -> 324 | P23: =I23/B23 -> 0.0025800165 | Q23: =(J23*G$20)/(B23*D23) -> 0.037208689 | R23: =L23/D23 -> 0.040898763 | T23: =K23/D23 -> 0.0013885382 | V23: =10%*Q23 -> 0.0037208689
A24: 4 | B24: =G$20-(C24+D24+E24) -> 278046195 | C24: ='Data Covid Omicron'!F7 -> 1045478 | D24: ='Data Covid Omicron'!C7 -> 7883 | E24: ='Data Covid Omicron'!D7-'Data Covid Omicron'!D6 -> 307 | I24: ='Data Covid Omicron'!F7 -> 1045478 | J24: ='Data Covid Omicron'!B7 -> 278 | K24: ='Data Covid Omicron'!E7-'Data Covid Omicron'!E6 -> 10 | L24: ='Data Covid Omicron'!D7-'Data Covid Omicron'!D6 -> 307 | P24: =I24/B24 -> 0.0037600874 | Q24: =(J24*G$20)/(B24*D24) -> 0.035399403 | R24: =L24/D24 -> 0.038944564 | T24: =K24/D24 -> 0.0012685526 | V24: =10%*Q24 -> 0.0035399403
A25: 5 | B25: =G$20-(C25+D25+E25) -> 278292376 | C25: ='Data Covid Omicron'!F8 -> 799303 | D25: ='Data Covid Omicron'!C8 -> 7796 | E25: ='Data Covid Omicron'!D8-'Data Covid Omicron'!D7 -> 388 | I25: ='Data Covid Omicron'!F8 -> 799303 | J25: ='Data Covid Omicron'!B8 -> 311 | K25: ='Data Covid Omicron'!E8-'Data Covid Omicron'!E7 -> 10 | L25: ='Data Covid Omicron'!D8-'Data Covid Omicron'!D7 -> 388 | P25: =I25/B25 -> 0.00287217 | Q25: =(J25*G$20)/(B25*D25) -> 0.040008003 | R25: =L25/D25 -> 0.049769112 | T25: =K25/D25 -> 0.0012827091 | V25: =10%*Q25 -> 0.0040008003
A26: 6 | B26: =G$20-(C26+D26+E26) -> 278363645 | C26: ='Data Covid Omicron'!F9 -> 728185 | D26: ='Data Covid Omicron'!C9 -> 7705 | E26: ='Data Covid Omicron'!D9-'Data Covid Omicron'!D8 -> 328 | I26: ='Data Covid Omicron'!F9 -> 728185 | J26: ='Data Covid Omicron'!B9 -> 245 | K26: ='Data Covid Omicron'!E9-'Data Covid Omicron'!E8 -> 8 | L26: ='Data Covid Omicron'!D9-'Data Covid Omicron'!D8 -> 328 | P26: =I26/B26 -> 0.0026159486 | Q26: =(J26*G$20)/(B26*D26) -> 0.031881632 | R26: =L26/D26 -> 0.04256976 | T26: =K26/D26 -> 0.0010382868 | V26: =10%*Q26 -> 0.0031881632
A27: 7 | B27: =G$20-(C27+D27+E27) -> 278515133 | C27: ='Data Covid Omicron'!F10 -> 576784 | D27: ='Data Covid Omicron'!C10 -> 7632 | E27: ='Data Covid Omicron'!D10-'Data Covid Omicron'!D9 -> 314 | I27: ='Data Covid Omicron'!F10 -> 576784 | J27: ='Data Covid Omicron'!B10 -> 246 | K27: ='Data Covid Omicron'!E10-'Data Covid Omicron'!E9 -> 5 | L27: ='Data Covid Omicron'!D10-'Data Covid Omicron'!D9 -> 314 | P27: =I27/B27 -> 0.0020709252 | Q27: =(J27*G$20)/(B27*D27) -> 0.032300376 | R27: =L27/D27 -> 0.041142558 | T27: =K27/D27 -> 0.00065513627 | V27: =10%*Q27 -> 0.0032300376
A28: 8 | B28: =G$20-(C28+D28+E28) -> 278706076 | C28: ='Data Covid Omicron'!F11 -> 385963 | D28: ='Data Covid Omicron'!C11 -> 7526 | E28: ='Data Covid Omicron'!D11-'Data Covid Omicron'!D10 -> 298 | I28: ='Data Covid Omicron'!F11 -> 385963 | J28: ='Data Covid Omicron'!B11 -> 196 | K28: ='Data Covid Omicron'!E11-'Data Covid Omicron'!E10 -> 4 | L28: ='Data Covid Omicron'!D11-'Data Covid Omicron'!D10 -> 298 | P28: =I28/B28 -> 0.0013848388 | Q28: =(J28*G$20)/(B28*D28) -> 0.026079847 | R28: =L28/D28 -> 0.039596067 | T28: =K28/D28 -> 0.00053149083 | V28: =10%*Q28 -> 0.0026079847
A29: 9 | B29: =G$20-(C29+D29+E29) -> 278876225 | C29: ='Data Covid Omicron'!F12 -> 215991 | D29: ='Data Covid Omicron'!C12 -> 5642 | E29: ='Data Covid Omicron'!D12-'Data Covid Omicron'!D11 -> 2005 | I29: ='Data Covid Omicron'!F12 -> 215991 | J29: ='Data Covid Omicron'!B12 -> 130 | K29: ='Data Covid Omicron'!E12-'Data Covid Omicron'!E11 -> 9 | L29: ='Data Covid Omicron'!D12-'Data Covid Omicron'!D11 -> 2005 | P29: =I29/B29 -> 0.00077450489 | Q29: =(J29*G$20)/(B29*D29) -> 0.023059952 | R29: =L29/D29 -> 0.35537044 | T29: =K29/D29 -> 0.001595179 | V29: =10%*Q29 -> 0.0023059952
A30: 10 | B30: =G$20-(C30+D30+E30) -> 278494105 | C30: ='Data Covid Omicron'!F13 -> 599872 | D30: ='Data Covid Omicron'!C13 -> 5466 | E30: ='Data Covid Omicron'!D13-'Data Covid Omicron'!D12 -> 420 | I30: ='Data Covid Omicron'!F13 -> 599872 | J30: ='Data Covid Omicron'!B13 -> 216 | K30: ='Data Covid Omicron'!E13-'Data Covid Omicron'!E12 -> 17 | L30: ='Data Covid Omicron'!D13-'Data Covid Omicron'!D12 -> 420 | P30: =I30/B30 -> 0.0021539846 | Q30: =(J30*G$20)/(B30*D30) -> 0.039602969 | R30: =L30/D30 -> 0.076838639 | T30: =K30/D30 -> 0.0031101354 | V30: =10%*Q30 -> 0.0039602969
A31: 11 | B31: =G$20-(C31+D31+E31) -> 278460321 | C31: ='Data Covid Omicron'!F14 -> 633828 | D31: ='Data Covid Omicron'!C14 -> 5363 | E31: ='Data Covid Omicron'!D14-'Data Covid Omicron'!D13 -> 351 | I31: ='Data Covid Omicron'!F14 -> 633828 | J31: ='Data Covid Omicron'!B14 -> 264 | K31: ='Data Covid Omicron'!E14-'Data Covid Omicron'!E13 -> 16 | L31: ='Data Covid Omicron'!D14-'Data Covid Omicron'!D13 -> 351 | P31: =I31/B31 -> 0.0022761879 | Q31: =(J31*G$20)/(B31*D31) -> 0.049339238 | R31: =L31/D31 -> 0.065448443 | T31: =K31/D31 -> 0.0029834048 | V31: =10%*Q31 -> 0.0049339238
A32: 12 | B32: =G$20-(C32+D32+E32) -> 278404052 | C32: ='Data Covid Omicron'!F15 -> 690237 | D32: ='Data Covid Omicron'!C15 -> 5278 | E32: ='Data Covid Omicron'!D15-'Data Covid Omicron'!D14 -> 296 | I32: ='Data Covid Omicron'!F15 -> 690237 | J32: ='Data Covid Omicron'!B15 -> 220 | K32: ='Data Covid Omicron'!E15-'Data Covid Omicron'!E14 -> 9 | L32: ='Data Covid Omicron'!D15-'Data Covid Omicron'!D14 -> 296 | P32: =I32/B32 -> 0.0024792635 | Q32: =(J32*G$20)/(B32*D32) -> 0.041786632 | R32: =L32/D32 -> 0.056081849 | T32: =K32/D32 -> 0.0017051914 | V32: =10%*Q32 -> 0.0041786632
... A145: 125 | B145: =G$20-(C145+D145+E145) -> 278628849 | C145: ='Data Covid Omicron'!F128 -> 361232 | D145: ='Data Covid Omicron'!C128 -> 100746 | E145: ='Data Covid Omicron'!D128-'Data Covid Omicron'!D127 -> 9036 | I145: ='Data Covid Omicron'!F128 -> 361232 | J145: ='Data Covid Omicron'!B128 -> 2930 | K145: ='Data Covid Omicron'!E128-'Data Covid Omicron'!E127 -> 75 | L145: ='Data Covid Omicron'!D128-'Data Covid Omicron'!D127 -> 9036 | P145: =I145/B145 -> 0.001296463 | Q145: =(J145*G$20)/(B145*D145) -> 0.029132205 | R145: =L145/D145 -> 0.089690906 | T145: =K145/D145 -> 0.00074444643 | V145: =10%*Q145 -> 0.0029132205
N146: Nilai parameter : | O146: =O20 -> 4.6835616e-05 | P146: =MEDIAN(P20:P145) -> 0.0020358002 | Q146: =MEDIAN(Q20:Q145) -> 0.058964836 | R146: =AVERAGE(R19:R145) -> 0.066092566 | S146: =S20 -> 0.03 | T146: =AVERAGE(T20:T145) -> 0.00086602889 | U146: =U20 -> 0.9 | V146: =AVERAGE(V20:V145) -> 0.008391956
